BEGIN:VCALENDAR
VERSION:2.0
PRODID:-//fgha - ECPv6.15.20//NONSGML v1.0//EN
CALSCALE:GREGORIAN
METHOD:PUBLISH
X-WR-CALNAME:fgha
X-ORIGINAL-URL:https://fgha.fr
X-WR-CALDESC:Évènements pour fgha
REFRESH-INTERVAL;VALUE=DURATION:PT1H
X-Robots-Tag:noindex
X-PUBLISHED-TTL:PT1H
BEGIN:VTIMEZONE
TZID:Europe/Paris
BEGIN:DAYLIGHT
TZOFFSETFROM:+0100
TZOFFSETTO:+0200
TZNAME:CEST
DTSTART:20220327T010000
END:DAYLIGHT
BEGIN:STANDARD
TZOFFSETFROM:+0200
TZOFFSETTO:+0100
TZNAME:CET
DTSTART:20221030T010000
END:STANDARD
BEGIN:DAYLIGHT
TZOFFSETFROM:+0100
TZOFFSETTO:+0200
TZNAME:CEST
DTSTART:20230326T010000
END:DAYLIGHT
BEGIN:STANDARD
TZOFFSETFROM:+0200
TZOFFSETTO:+0100
TZNAME:CET
DTSTART:20231029T010000
END:STANDARD
BEGIN:DAYLIGHT
TZOFFSETFROM:+0100
TZOFFSETTO:+0200
TZNAME:CEST
DTSTART:20240331T010000
END:DAYLIGHT
BEGIN:STANDARD
TZOFFSETFROM:+0200
TZOFFSETTO:+0100
TZNAME:CET
DTSTART:20241027T010000
END:STANDARD
BEGIN:DAYLIGHT
TZOFFSETFROM:+0100
TZOFFSETTO:+0200
TZNAME:CEST
DTSTART:20250330T010000
END:DAYLIGHT
BEGIN:STANDARD
TZOFFSETFROM:+0200
TZOFFSETTO:+0100
TZNAME:CET
DTSTART:20251026T010000
END:STANDARD
BEGIN:DAYLIGHT
TZOFFSETFROM:+0100
TZOFFSETTO:+0200
TZNAME:CEST
DTSTART:20260329T010000
END:DAYLIGHT
BEGIN:STANDARD
TZOFFSETFROM:+0200
TZOFFSETTO:+0100
TZNAME:CET
DTSTART:20261025T010000
END:STANDARD
END:VTIMEZONE
BEGIN:VEVENT
DTSTART;TZID=Europe/Paris:20251122T100000
DTEND;TZID=Europe/Paris:20251123T180000
DTSTAMP:20260421T144459
CREATED:20251016T170036Z
LAST-MODIFIED:20251016T170036Z
UID:9639-1763805600-1763920800@fgha.fr
SUMMARY:Festival du livre 2025
DESCRIPTION:La FGHA tiendra son stand habituel.
URL:https://fgha.fr/event/festival-du-livre-2025/
LOCATION:Parc Expo de Colmar\, Avenue de la Foire aux Vins\, Colmar\, 68000\, France
CATEGORIES:Salon
ATTACH;FMTTYPE=image/jpeg:https://fgha.fr/wp-content/uploads/2025/10/salon-colmar-2025.jpg
END:VEVENT
BEGIN:VEVENT
DTSTART;TZID=Europe/Paris:20251108T090000
DTEND;TZID=Europe/Paris:20251109T180000
DTSTAMP:20260421T144459
CREATED:20251025T121009Z
LAST-MODIFIED:20251025T121009Z
UID:9644-1762592400-1762711200@fgha.fr
SUMMARY:45 ans de Généalogie à Brunstatt
DESCRIPTION:
URL:https://fgha.fr/event/45-ans-de-genealogie-a-brunstatt/
LOCATION:Salle Municipale des Sports\, 9 rue du Bitz\, BRUNSTATT-DIDENHEIM\, France
CATEGORIES:Salon
ATTACH;FMTTYPE=image/jpeg:https://fgha.fr/wp-content/uploads/2025/10/brunstatt.jpg
END:VEVENT
BEGIN:VEVENT
DTSTART;TZID=Europe/Paris:20251018T100000
DTEND;TZID=Europe/Paris:20251019T170000
DTSTAMP:20260421T144459
CREATED:20251016T163107Z
LAST-MODIFIED:20251016T164230Z
UID:9634-1760781600-1760893200@fgha.fr
SUMMARY:GénéaStory
DESCRIPTION:
URL:https://fgha.fr/event/geneastory-2/
LOCATION:Salle de Gymnastique 1860\, 25\, rue de Reims\, GUEBWILLER\, 68500\, France
CATEGORIES:Salon
ATTACH;FMTTYPE=image/jpeg:https://fgha.fr/wp-content/uploads/2025/10/geneastory16-9-1.jpg
END:VEVENT
BEGIN:VEVENT
DTSTART;TZID=Europe/Paris:20241123T090000
DTEND;TZID=Europe/Paris:20241124T180000
DTSTAMP:20260421T144459
CREATED:20241103T110004Z
LAST-MODIFIED:20241103T110004Z
UID:9561-1732352400-1732471200@fgha.fr
SUMMARY:Festival du livre 2024
DESCRIPTION:La FGHA tiendra son stand habituel.
URL:https://fgha.fr/event/festival-du-livre-2024/
LOCATION:Parc Expo de Colmar\, Avenue de la Foire aux Vins\, Colmar\, 68000\, France
CATEGORIES:Salon
ATTACH;FMTTYPE=image/jpeg:https://fgha.fr/wp-content/uploads/2024/11/Affiche_2024.jpg
END:VEVENT
BEGIN:VEVENT
DTSTART;TZID=Europe/Paris:20240413T150000
DTEND;TZID=Europe/Paris:20240413T150000
DTSTAMP:20260421T144459
CREATED:20240222T151413Z
LAST-MODIFIED:20240501T192422Z
UID:9526-1713020400-1713020400@fgha.fr
SUMMARY:Assemblée Générale 2024
DESCRIPTION:Ordre du jour : \n\nAccueil et salutations.\nApprobation du compte rendu de l’Assemblée Générale du samedi 6 mai 2023 à Sundhoffen.\nRapport moral du président.\nRapport financier.\nRapport des vérificateurs aux comptes.\nDésignation des nouveaux vérificateurs aux comptes.\nCotisation 2025.\nÉlections du comité\nBilan « SaiRePa »\nLe bulletin.\nProjets et perspectives.\nDivers.\nPrésentation succincte des activités des cercles et projets.\n\nÀ l’issue de cette Assemblée Générale\, un verre de l’amitié sera offert par la SHGSCP \n 
URL:https://fgha.fr/event/assemblee-generale-2024/
LOCATION:Sainte-Croix-en-Plaine\, Mairie - Salle Bartholdy\, Sainte-Croix-en-Plaine\, 68127\, France
CATEGORIES:A.G.
ATTACH;FMTTYPE=image/webp:https://fgha.fr/wp-content/uploads/2024/02/Sainte-Croix-en-Plaine-marie-1.webp
END:VEVENT
BEGIN:VEVENT
DTSTART;VALUE=DATE:20240224
DTEND;VALUE=DATE:20240226
DTSTAMP:20260421T144459
CREATED:20230924T194548Z
LAST-MODIFIED:20240222T145654Z
UID:9488-1708732800-1708905599@fgha.fr
SUMMARY:4e salon alsacien de Généalogie
DESCRIPTION:Consulter la plaquette programme
URL:https://fgha.fr/event/4e-salon-alsacien-de-genealogie/
LOCATION:Espace les Tisserands\, Parvis Charles-Louis Marchal\, Châtenois\, 67730\, France
CATEGORIES:Salon
ATTACH;FMTTYPE=image/webp:https://fgha.fr/wp-content/uploads/2023/09/chatenois-scaled.webp
END:VEVENT
BEGIN:VEVENT
DTSTART;TZID=Europe/Paris:20231125T090000
DTEND;TZID=Europe/Paris:20231126T180000
DTSTAMP:20260421T144459
CREATED:20230924T165807Z
LAST-MODIFIED:20231102T192337Z
UID:9462-1700902800-1701021600@fgha.fr
SUMMARY:Festival du livre 2023
DESCRIPTION:La FGHA tiendra son stand habituel.
URL:https://fgha.fr/event/festival-du-livre-2023/
LOCATION:Parc Expo de Colmar\, Avenue de la Foire aux Vins\, Colmar\, 68000\, France
CATEGORIES:Salon
ATTACH;FMTTYPE=image/jpeg:https://fgha.fr/wp-content/uploads/2023/09/Festival_du_livre_2023_site.jpeg
END:VEVENT
BEGIN:VEVENT
DTSTART;VALUE=DATE:20231111
DTEND;VALUE=DATE:20231112
DTSTAMP:20260421T144459
CREATED:20230924T205616Z
LAST-MODIFIED:20230924T205616Z
UID:9500-1699660800-1699747199@fgha.fr
SUMMARY:Sortie traditionnelle du 11 novembre
DESCRIPTION:Visite guidée des Archives d’Alsace –Site de Strasbourg par M. PETRAZOLLER\, directeur\n« Les trésors insoupçonnés de la ville d’Erstein » avec Mme Leïla KOPF ; guide-conférencière
URL:https://fgha.fr/event/sortie-traditionnelle-du-11-novembre/
LOCATION:Strasbourg\, France
CATEGORIES:Détente
ATTACH;FMTTYPE=image/jpeg:https://fgha.fr/wp-content/uploads/2023/09/ArchivesDepartementales-3.jpeg
END:VEVENT
BEGIN:VEVENT
DTSTART;TZID=Europe/Paris:20231021T100000
DTEND;TZID=Europe/Paris:20231022T170000
DTSTAMP:20260421T144459
CREATED:20230924T202437Z
LAST-MODIFIED:20230924T202437Z
UID:9493-1697882400-1697994000@fgha.fr
SUMMARY:GénéaStory
DESCRIPTION:Salon de la Généalogie et de l’Histoire en Alsace
URL:https://fgha.fr/event/geneastory/
LOCATION:Salle de Gymnastique 1860\, 25\, rue de Reims\, GUEBWILLER\, 68500\, France
CATEGORIES:Salon
ATTACH;FMTTYPE=image/jpeg:https://fgha.fr/wp-content/uploads/2023/09/Geneastory-Depliant.jpg
END:VEVENT
END:VCALENDAR